BEGIN:VCALENDAR
VERSION:2.0
PRODID:-//Tischtennis in Sengwarden/Wilhelmshaven - ECPv6.15.20//NONSGML v1.0//EN
CALSCALE:GREGORIAN
METHOD:PUBLISH
X-WR-CALNAME:Tischtennis in Sengwarden/Wilhelmshaven
X-ORIGINAL-URL:https://tt-sengwarden.de
X-WR-CALDESC:Veranstaltungen für Tischtennis in Sengwarden/Wilhelmshaven
REFRESH-INTERVAL;VALUE=DURATION:PT1H
X-Robots-Tag:noindex
X-PUBLISHED-TTL:PT1H
BEGIN:VTIMEZONE
TZID:Europe/Berlin
BEGIN:DAYLIGHT
TZOFFSETFROM:+0100
TZOFFSETTO:+0200
TZNAME:CEST
DTSTART:20250330T010000
END:DAYLIGHT
BEGIN:STANDARD
TZOFFSETFROM:+0200
TZOFFSETTO:+0100
TZNAME:CET
DTSTART:20251026T010000
END:STANDARD
BEGIN:DAYLIGHT
TZOFFSETFROM:+0100
TZOFFSETTO:+0200
TZNAME:CEST
DTSTART:20260329T010000
END:DAYLIGHT
BEGIN:STANDARD
TZOFFSETFROM:+0200
TZOFFSETTO:+0100
TZNAME:CET
DTSTART:20261025T010000
END:STANDARD
BEGIN:DAYLIGHT
TZOFFSETFROM:+0100
TZOFFSETTO:+0200
TZNAME:CEST
DTSTART:20270328T010000
END:DAYLIGHT
BEGIN:STANDARD
TZOFFSETFROM:+0200
TZOFFSETTO:+0100
TZNAME:CET
DTSTART:20271031T010000
END:STANDARD
END:VTIMEZONE
BEGIN:VEVENT
DTSTART;TZID=Europe/Berlin:20260424T180000
DTEND;TZID=Europe/Berlin:20260424T200000
DTSTAMP:20260424T121432
CREATED:20251228T193012Z
LAST-MODIFIED:20251228T193012Z
UID:2828-1777053600-1777060800@tt-sengwarden.de
SUMMARY:Jugend 15 - Vareler TB
DESCRIPTION:Kreisliga Jugend 15
URL:https://tt-sengwarden.de/event/jugend-15-vareler-tb/
LOCATION:Halle Sengwarden\, Hauptstraße 26\, Sengwarden\, 26388
CATEGORIES:Punktspiel
END:VEVENT
BEGIN:VEVENT
DTSTART;TZID=Europe/Berlin:20260424T184500
DTEND;TZID=Europe/Berlin:20260424T204500
DTSTAMP:20260424T121432
CREATED:20251228T174746Z
LAST-MODIFIED:20251228T174746Z
UID:2814-1777056300-1777063500@tt-sengwarden.de
SUMMARY:Wilhelmshavener SSV - Jugend 19
DESCRIPTION:Kreisliga Jugend 19
URL:https://tt-sengwarden.de/event/wilhelmshavener-ssv-jugend-19/
CATEGORIES:Punktspiel
END:VEVENT
BEGIN:VEVENT
DTSTART;TZID=Europe/Berlin:20260424T201500
DTEND;TZID=Europe/Berlin:20260424T221500
DTSTAMP:20260424T121432
CREATED:20251220T140645Z
LAST-MODIFIED:20251220T140645Z
UID:2689-1777061700-1777068900@tt-sengwarden.de
SUMMARY:SV Warsingsfehn - 1. Herren
DESCRIPTION:Bezirksoberliga Herren Nord
URL:https://tt-sengwarden.de/event/sv-warsingsfehn-1-herren/
CATEGORIES:Punktspiel
END:VEVENT
BEGIN:VEVENT
DTSTART;TZID=Europe/Berlin:20260424T203000
DTEND;TZID=Europe/Berlin:20260424T223000
DTSTAMP:20260424T121432
CREATED:20251228T162006Z
LAST-MODIFIED:20251228T162006Z
UID:2756-1777062600-1777069800@tt-sengwarden.de
SUMMARY:TuS Glarum - 4. Herren
DESCRIPTION:1. Kreisklasse
URL:https://tt-sengwarden.de/event/tus-glarum-4-herren/
CATEGORIES:Punktspiel
END:VEVENT
END:VCALENDAR